Package: schex Version: 1.24.0 Command: /home/biocbuild/bbs-3.22-bioc/R/bin/R CMD INSTALL schex StartedAt: 2025-11-13 15:23:45 -0500 (Thu, 13 Nov 2025) EndedAt: 2025-11-13 15:24:12 -0500 (Thu, 13 Nov 2025) EllapsedTime: 26.8 seconds RetCode: 0 Status: OK