Package: schex Version: 1.24.0 Command: /home/biocbuild/bbs-3.22-bioc/R/bin/R CMD build --keep-empty-dirs --no-resave-data --md5 schex StartedAt: 2025-11-13 20:00:15 -0500 (Thu, 13 Nov 2025) EndedAt: 2025-11-13 20:01:45 -0500 (Thu, 13 Nov 2025) EllapsedTime: 90.1 seconds RetCode: 0 Status: OK PackageFile: schex_1.24.0.tar.gz PackageFileSize: 3.233 MiB