Package: schex Version: 1.22.0 Command: /home/biocbuild/R/R/bin/R CMD INSTALL schex StartedAt: 2025-09-25 20:36:36 -0000 (Thu, 25 Sep 2025) EndedAt: 2025-09-25 20:37:12 -0000 (Thu, 25 Sep 2025) EllapsedTime: 36.1 seconds RetCode: 0 Status: OK