Package: scds Version: 1.26.0 Command: /home/biocbuild/bbs-3.22-bioc/R/bin/R CMD check --install=check:scds.install-out.txt --library=/home/biocbuild/bbs-3.22-bioc/R/site-library --timings scds_1.26.0.tar.gz StartedAt: 2025-11-15 04:00:27 -0500 (Sat, 15 Nov 2025) EndedAt: 2025-11-15 04:04:37 -0500 (Sat, 15 Nov 2025) EllapsedTime: 250.2 seconds RetCode: 0 Status: OK CheckDir: scds.Rcheck Warnings: 0