Package: scds Version: 1.26.0 Command: /home/biocbuild/bbs-3.22-bioc/R/bin/R CMD build --keep-empty-dirs --no-resave-data --md5 scds StartedAt: 2025-11-11 20:00:28 -0500 (Tue, 11 Nov 2025) EndedAt: 2025-11-11 20:01:33 -0500 (Tue, 11 Nov 2025) EllapsedTime: 65.1 seconds RetCode: 0 Status: OK PackageFile: scds_1.26.0.tar.gz PackageFileSize: 1.384 MiB