Package: scds Version: 1.26.0 Command: /Library/Frameworks/R.framework/Resources/bin/R CMD INSTALL scds StartedAt: 2025-11-03 15:25:14 -0500 (Mon, 03 Nov 2025) EndedAt: 2025-11-03 15:25:47 -0500 (Mon, 03 Nov 2025) EllapsedTime: 32.2 seconds RetCode: 0 Status: OK