Package: scds Version: 1.26.0 Command: rm -rf scds.buildbin-libdir && mkdir scds.buildbin-libdir && /Users/biocbuild/BBS/utils/build-universal.sh scds_1.26.0.tar.gz /Library/Frameworks/R.framework/Resources/bin/R scds.buildbin-libdir StartedAt: 2025-11-03 02:02:59 -0500 (Mon, 03 Nov 2025) EndedAt: 2025-11-03 02:03:35 -0500 (Mon, 03 Nov 2025) EllapsedTime: 36.8 seconds RetCode: 0 Status: OK PackageFile: scds_1.26.0.tgz PackageFileSize: 1.42 MiB