Package: scds Version: 1.24.0 Command: /home/biocbuild/R/R/bin/R CMD INSTALL scds StartedAt: 2025-10-06 20:31:15 -0000 (Mon, 06 Oct 2025) EndedAt: 2025-10-06 20:31:52 -0000 (Mon, 06 Oct 2025) EllapsedTime: 36.7 seconds RetCode: 0 Status: OK