Package: scds Version: 1.24.0 Command: /home/biocbuild/R/R/bin/R CMD build --keep-empty-dirs --no-resave-data scds StartedAt: 2025-10-07 04:20:44 -0000 (Tue, 07 Oct 2025) EndedAt: 2025-10-07 04:22:05 -0000 (Tue, 07 Oct 2025) EllapsedTime: 81.0 seconds RetCode: 0 Status: OK PackageFile: scds_1.24.0.tar.gz PackageFileSize: 1.381 MiB