Package: scds Version: 1.26.0 Command: /Library/Frameworks/R.framework/Resources/bin/R CMD INSTALL scds StartedAt: 2025-11-10 15:12:09 -0500 (Mon, 10 Nov 2025) EndedAt: 2025-11-10 15:12:19 -0500 (Mon, 10 Nov 2025) EllapsedTime: 10.5 seconds RetCode: 0 Status: OK