Package: scds Version: 1.26.0 Command: /Library/Frameworks/R.framework/Resources/bin/R CMD build --keep-empty-dirs --no-resave-data scds StartedAt: 2025-11-10 17:38:49 -0500 (Mon, 10 Nov 2025) EndedAt: 2025-11-10 17:39:21 -0500 (Mon, 10 Nov 2025) EllapsedTime: 31.3 seconds RetCode: 0 Status: OK PackageFile: scds_1.26.0.tar.gz PackageFileSize: 1.387 MiB