Package: scde Version: 2.38.0 Command: /home/biocbuild/bbs-3.22-bioc/R/bin/R CMD INSTALL scde StartedAt: 2025-11-11 15:17:09 -0500 (Tue, 11 Nov 2025) EndedAt: 2025-11-11 15:18:01 -0500 (Tue, 11 Nov 2025) EllapsedTime: 52.6 seconds RetCode: 0 Status: OK