Package: scde Version: 2.38.0 Command: /home/biocbuild/bbs-3.22-bioc/R/bin/R CMD build --keep-empty-dirs --no-resave-data --md5 scde StartedAt: 2025-11-11 19:59:53 -0500 (Tue, 11 Nov 2025) EndedAt: 2025-11-11 19:59:55 -0500 (Tue, 11 Nov 2025) EllapsedTime: 2.0 seconds RetCode: 0 Status: OK PackageFile: scde_2.38.0.tar.gz PackageFileSize: 1.061 MiB