Package: scde Version: 2.36.0 Command: /home/biocbuild/R/R/bin/R CMD INSTALL scde StartedAt: 2025-10-13 20:24:38 -0000 (Mon, 13 Oct 2025) EndedAt: 2025-10-13 20:26:00 -0000 (Mon, 13 Oct 2025) EllapsedTime: 81.5 seconds RetCode: 0 Status: OK