Package: scde Version: 2.36.0 Command: /home/biocbuild/R/R/bin/R CMD build --keep-empty-dirs --no-resave-data scde StartedAt: 2025-10-14 04:23:47 -0000 (Tue, 14 Oct 2025) EndedAt: 2025-10-14 04:23:49 -0000 (Tue, 14 Oct 2025) EllapsedTime: 2.0 seconds RetCode: 0 Status: OK PackageFile: scde_2.36.0.tar.gz PackageFileSize: 1.059 MiB