Package: scde Version: 2.38.0 Command: /Library/Frameworks/R.framework/Resources/bin/R CMD INSTALL scde StartedAt: 2025-11-03 15:07:00 -0500 (Mon, 03 Nov 2025) EndedAt: 2025-11-03 15:07:16 -0500 (Mon, 03 Nov 2025) EllapsedTime: 16.0 seconds RetCode: 0 Status: OK