Package: scde Version: 2.38.0 Command: /Library/Frameworks/R.framework/Resources/bin/R CMD build --keep-empty-dirs --no-resave-data scde StartedAt: 2025-11-03 17:38:17 -0500 (Mon, 03 Nov 2025) EndedAt: 2025-11-03 17:38:18 -0500 (Mon, 03 Nov 2025) EllapsedTime: 1.0 seconds RetCode: 0 Status: OK PackageFile: scde_2.38.0.tar.gz PackageFileSize: 1.059 MiB