Package: sccomp Version: 2.2.0 Command: /home/biocbuild/R/R/bin/R CMD INSTALL sccomp StartedAt: 2025-11-20 22:09:01 -0000 (Thu, 20 Nov 2025) EndedAt: 2025-11-20 22:09:47 -0000 (Thu, 20 Nov 2025) EllapsedTime: 45.6 seconds RetCode: 0 Status: OK