Package: sccomp Version: 2.2.0 Command: /home/biocbuild/R/R/bin/R CMD build --keep-empty-dirs --no-resave-data sccomp StartedAt: 2025-11-21 05:33:20 -0000 (Fri, 21 Nov 2025) EndedAt: 2025-11-21 05:34:28 -0000 (Fri, 21 Nov 2025) EllapsedTime: 68.0 seconds RetCode: 0 Status: OK PackageFile: sccomp_2.2.0.tar.gz PackageFileSize: 2.697 MiB