Package: sccomp Version: 2.2.0 Command: /home/biocbuild/bbs-3.22-bioc/R/bin/R CMD INSTALL sccomp StartedAt: 2025-11-11 15:23:39 -0500 (Tue, 11 Nov 2025) EndedAt: 2025-11-11 15:24:10 -0500 (Tue, 11 Nov 2025) EllapsedTime: 31.2 seconds RetCode: 0 Status: OK