Package: sccomp Version: 2.2.0 Command: /home/biocbuild/bbs-3.22-bioc/R/bin/R CMD check --install=check:sccomp.install-out.txt --library=/home/biocbuild/bbs-3.22-bioc/R/site-library --timings sccomp_2.2.0.tar.gz StartedAt: 2025-11-12 03:44:42 -0500 (Wed, 12 Nov 2025) EndedAt: 2025-11-12 03:49:51 -0500 (Wed, 12 Nov 2025) EllapsedTime: 308.7 seconds RetCode: 0 Status: OK CheckDir: sccomp.Rcheck Warnings: 0