Package: sccomp Version: 2.2.0 Command: /home/biocbuild/bbs-3.22-bioc/R/bin/R CMD build --keep-empty-dirs --no-resave-data --md5 sccomp StartedAt: 2025-11-11 19:59:02 -0500 (Tue, 11 Nov 2025) EndedAt: 2025-11-11 20:00:03 -0500 (Tue, 11 Nov 2025) EllapsedTime: 61.1 seconds RetCode: 0 Status: OK PackageFile: sccomp_2.2.0.tar.gz PackageFileSize: 2.694 MiB