Package: sccomp Version: 2.0.0 Command: /home/biocbuild/bbs-3.21-bioc/R/bin/R CMD INSTALL sccomp StartedAt: 2025-10-15 15:18:29 -0400 (Wed, 15 Oct 2025) EndedAt: 2025-10-15 15:19:01 -0400 (Wed, 15 Oct 2025) EllapsedTime: 31.9 seconds RetCode: 0 Status: OK