Package: sccomp Version: 2.0.0 Command: /home/biocbuild/bbs-3.21-bioc/R/bin/R CMD build --keep-empty-dirs --no-resave-data sccomp StartedAt: 2025-10-15 19:41:17 -0400 (Wed, 15 Oct 2025) EndedAt: 2025-10-15 19:42:21 -0400 (Wed, 15 Oct 2025) EllapsedTime: 64.1 seconds RetCode: 0 Status: OK PackageFile: sccomp_2.0.0.tar.gz PackageFileSize: 3.403 MiB