Package: sccomp Version: 2.0.0 Command: rm -rf sccomp.buildbin-libdir && mkdir sccomp.buildbin-libdir && /Users/biocbuild/BBS/utils/build-universal.sh sccomp_2.0.0.tar.gz /Library/Frameworks/R.framework/Resources/bin/R sccomp.buildbin-libdir StartedAt: 2025-04-21 22:50:59 -0400 (Mon, 21 Apr 2025) EndedAt: 2025-04-21 22:51:13 -0400 (Mon, 21 Apr 2025) EllapsedTime: 14.2 seconds RetCode: 0 Status: OK PackageFile: sccomp_2.0.0.tgz PackageFileSize: 6.586 MiB