Package: sccomp Version: 2.2.0 Maintainer: Stefano Mangiola MaintainerEmail: stefano.mangiola at unimelb.edu.au git_url: https://git.bioconductor.org/packages/sccomp git_branch: RELEASE_3_22 git_last_commit: a805110 git_last_commit_date: 2025-10-29 11:13:54 -0500 (Wed, 29 Oct 2025)