Package: scatterHatch Version: 1.16.0 Command: /home/biocbuild/bbs-3.22-bioc/R/bin/R CMD INSTALL scatterHatch StartedAt: 2025-11-11 15:11:53 -0500 (Tue, 11 Nov 2025) EndedAt: 2025-11-11 15:12:02 -0500 (Tue, 11 Nov 2025) EllapsedTime: 8.7 seconds RetCode: 0 Status: OK