Package: scatterHatch Version: 1.14.0 Command: /home/biocbuild/bbs-3.21-bioc/R/bin/R CMD build --keep-empty-dirs --no-resave-data scatterHatch StartedAt: 2025-10-15 19:40:39 -0400 (Wed, 15 Oct 2025) EndedAt: 2025-10-15 19:41:12 -0400 (Wed, 15 Oct 2025) EllapsedTime: 33.0 seconds RetCode: 0 Status: OK PackageFile: scatterHatch_1.14.0.tar.gz PackageFileSize: 3.048 MiB