Package: scatterHatch Version: 1.16.0 Command: /Library/Frameworks/R.framework/Resources/bin/R CMD INSTALL scatterHatch StartedAt: 2025-11-03 15:14:27 -0500 (Mon, 03 Nov 2025) EndedAt: 2025-11-03 15:15:08 -0500 (Mon, 03 Nov 2025) EllapsedTime: 41.2 seconds RetCode: 0 Status: OK