Package: scatterHatch Version: 1.16.0 Command: /Library/Frameworks/R.framework/Resources/bin/R CMD build --keep-empty-dirs --no-resave-data scatterHatch StartedAt: 2025-11-03 18:36:44 -0500 (Mon, 03 Nov 2025) EndedAt: 2025-11-03 18:37:36 -0500 (Mon, 03 Nov 2025) EllapsedTime: 52.1 seconds RetCode: 0 Status: OK PackageFile: scatterHatch_1.16.0.tar.gz PackageFileSize: 3.86 MiB