Package: scatterHatch Version: 1.16.0 Command: rm -rf scatterHatch.buildbin-libdir && mkdir scatterHatch.buildbin-libdir && /Users/biocbuild/BBS/utils/build-universal.sh scatterHatch_1.16.0.tar.gz /Library/Frameworks/R.framework/Resources/bin/R scatterHatch.buildbin-libdir StartedAt: 2025-11-04 02:01:59 -0500 (Tue, 04 Nov 2025) EndedAt: 2025-11-04 02:02:13 -0500 (Tue, 04 Nov 2025) EllapsedTime: 13.8 seconds RetCode: 0 Status: OK PackageFile: scatterHatch_1.16.0.tgz PackageFileSize: 3.904 MiB