Package: scatterHatch Version: 1.14.0 Command: /Library/Frameworks/R.framework/Resources/bin/R CMD INSTALL scatterHatch StartedAt: 2025-10-13 15:20:38 -0400 (Mon, 13 Oct 2025) EndedAt: 2025-10-13 15:20:47 -0400 (Mon, 13 Oct 2025) EllapsedTime: 8.3 seconds RetCode: 0 Status: OK