Package: scatterHatch Version: 1.14.0 Command: /Library/Frameworks/R.framework/Resources/bin/R CMD build --keep-empty-dirs --no-resave-data scatterHatch StartedAt: 2025-10-14 08:32:42 -0400 (Tue, 14 Oct 2025) EndedAt: 2025-10-14 08:33:40 -0400 (Tue, 14 Oct 2025) EllapsedTime: 57.8 seconds RetCode: 0 Status: OK PackageFile: scatterHatch_1.14.0.tar.gz PackageFileSize: 4.243 MiB