Package: scater Version: 1.38.0 Command: /home/biocbuild/bbs-3.22-bioc/R/bin/R CMD INSTALL scater StartedAt: 2025-11-13 15:56:49 -0500 (Thu, 13 Nov 2025) EndedAt: 2025-11-13 15:57:20 -0500 (Thu, 13 Nov 2025) EllapsedTime: 30.9 seconds RetCode: 0 Status: OK