Package: scater Version: 1.38.0 Command: /home/biocbuild/bbs-3.22-bioc/R/bin/R CMD build --keep-empty-dirs --no-resave-data --md5 scater StartedAt: 2025-11-13 19:56:32 -0500 (Thu, 13 Nov 2025) EndedAt: 2025-11-13 19:59:09 -0500 (Thu, 13 Nov 2025) EllapsedTime: 157.1 seconds RetCode: 0 Status: OK PackageFile: scater_1.38.0.tar.gz PackageFileSize: 4.354 MiB