Package: scater Version: 1.36.0 Command: /home/biocbuild/R/R/bin/R CMD build --keep-empty-dirs --no-resave-data scater StartedAt: 2025-10-14 04:21:20 -0000 (Tue, 14 Oct 2025) EndedAt: 2025-10-14 04:25:21 -0000 (Tue, 14 Oct 2025) EllapsedTime: 241.2 seconds RetCode: 0 Status: OK PackageFile: scater_1.36.0.tar.gz PackageFileSize: 3.975 MiB