Package: scanMiRApp Version: 1.16.0 Command: /home/biocbuild/R/R/bin/R CMD INSTALL scanMiRApp StartedAt: 2025-11-10 22:04:08 -0000 (Mon, 10 Nov 2025) EndedAt: 2025-11-10 22:05:13 -0000 (Mon, 10 Nov 2025) EllapsedTime: 64.7 seconds RetCode: 0 Status: OK