Package: scanMiRApp Version: 1.16.0 Command: /home/biocbuild/R/R/bin/R CMD build --keep-empty-dirs --no-resave-data scanMiRApp StartedAt: 2025-11-14 05:00:32 -0000 (Fri, 14 Nov 2025) EndedAt: 2025-11-14 05:02:01 -0000 (Fri, 14 Nov 2025) EllapsedTime: 89.1 seconds RetCode: 0 Status: OK PackageFile: scanMiRApp_1.16.0.tar.gz PackageFileSize: 931.2 KiB