Package: scanMiRApp Version: 1.16.0 Command: /home/biocbuild/bbs-3.22-bioc/R/bin/R CMD INSTALL scanMiRApp StartedAt: 2025-11-13 15:54:25 -0500 (Thu, 13 Nov 2025) EndedAt: 2025-11-13 15:55:16 -0500 (Thu, 13 Nov 2025) EllapsedTime: 50.6 seconds RetCode: 0 Status: OK