Package: scanMiRApp Version: 1.16.0 Command: /home/biocbuild/bbs-3.22-bioc/R/bin/R CMD check --install=check:scanMiRApp.install-out.txt --library=/home/biocbuild/bbs-3.22-bioc/R/site-library --timings scanMiRApp_1.16.0.tar.gz StartedAt: 2025-11-14 03:43:46 -0500 (Fri, 14 Nov 2025) EndedAt: 2025-11-14 03:51:05 -0500 (Fri, 14 Nov 2025) EllapsedTime: 438.8 seconds RetCode: 0 Status: OK CheckDir: scanMiRApp.Rcheck Warnings: 0