Package: scanMiRApp Version: 1.16.0 Command: /home/biocbuild/bbs-3.22-bioc/R/bin/R CMD build --keep-empty-dirs --no-resave-data --md5 scanMiRApp StartedAt: 2025-11-13 19:55:41 -0500 (Thu, 13 Nov 2025) EndedAt: 2025-11-13 19:57:05 -0500 (Thu, 13 Nov 2025) EllapsedTime: 84.1 seconds RetCode: 0 Status: OK PackageFile: scanMiRApp_1.16.0.tar.gz PackageFileSize: 907.3 KiB