Package: scanMiRApp Version: 1.14.0 Command: /Library/Frameworks/R.framework/Resources/bin/R CMD INSTALL scanMiRApp StartedAt: 2025-10-09 16:40:32 -0400 (Thu, 09 Oct 2025) EndedAt: 2025-10-09 16:42:09 -0400 (Thu, 09 Oct 2025) EllapsedTime: 96.6 seconds RetCode: 0 Status: OK