Package: scanMiRApp Version: 1.14.0 Command: /Library/Frameworks/R.framework/Resources/bin/R CMD build --keep-empty-dirs --no-resave-data scanMiRApp StartedAt: 2025-10-09 22:17:12 -0400 (Thu, 09 Oct 2025) EndedAt: 2025-10-09 22:19:54 -0400 (Thu, 09 Oct 2025) EllapsedTime: 161.3 seconds RetCode: 0 Status: OK PackageFile: scanMiRApp_1.14.0.tar.gz PackageFileSize: 904.4 KiB