Package: scanMiR Version: 1.16.0 Command: /home/biocbuild/R/R/bin/R CMD INSTALL scanMiR StartedAt: 2025-11-13 22:02:56 -0000 (Thu, 13 Nov 2025) EndedAt: 2025-11-13 22:03:19 -0000 (Thu, 13 Nov 2025) EllapsedTime: 22.9 seconds RetCode: 0 Status: OK