Package: scanMiR Version: 1.16.0 Command: /home/biocbuild/bbs-3.22-bioc/R/bin/R CMD INSTALL scanMiR StartedAt: 2025-11-11 15:57:20 -0500 (Tue, 11 Nov 2025) EndedAt: 2025-11-11 15:57:37 -0500 (Tue, 11 Nov 2025) EllapsedTime: 17.2 seconds RetCode: 0 Status: OK