Package: scanMiR Version: 1.16.0 Command: /home/biocbuild/bbs-3.22-bioc/R/bin/R CMD build --keep-empty-dirs --no-resave-data --md5 scanMiR StartedAt: 2025-11-11 19:57:14 -0500 (Tue, 11 Nov 2025) EndedAt: 2025-11-11 19:57:59 -0500 (Tue, 11 Nov 2025) EllapsedTime: 45.1 seconds RetCode: 0 Status: OK PackageFile: scanMiR_1.16.0.tar.gz PackageFileSize: 1.055 MiB