Package: scanMiR Version: 1.14.0 Command: /home/biocbuild/bbs-3.21-bioc/R/bin/R CMD INSTALL scanMiR StartedAt: 2025-10-12 15:54:59 -0400 (Sun, 12 Oct 2025) EndedAt: 2025-10-12 15:55:15 -0400 (Sun, 12 Oct 2025) EllapsedTime: 16.3 seconds RetCode: 0 Status: OK