Package: scanMiR Version: 1.14.0 Command: /home/biocbuild/bbs-3.21-bioc/R/bin/R CMD build --keep-empty-dirs --no-resave-data scanMiR StartedAt: 2025-10-12 19:41:56 -0400 (Sun, 12 Oct 2025) EndedAt: 2025-10-12 19:42:23 -0400 (Sun, 12 Oct 2025) EllapsedTime: 27.0 seconds RetCode: 0 Status: OK PackageFile: scanMiR_1.14.0.tar.gz PackageFileSize: 1.053 MiB