Package: scTreeViz Version: 1.16.0 Command: /home/biocbuild/R/R/bin/R CMD INSTALL scTreeViz StartedAt: 2025-11-10 22:08:32 -0000 (Mon, 10 Nov 2025) EndedAt: 2025-11-10 22:10:01 -0000 (Mon, 10 Nov 2025) EllapsedTime: 89.5 seconds RetCode: 0 Status: OK