Package: scTreeViz Version: 1.16.0 Command: /home/biocbuild/bbs-3.22-bioc/R/bin/R CMD INSTALL scTreeViz StartedAt: 2025-11-11 16:01:21 -0500 (Tue, 11 Nov 2025) EndedAt: 2025-11-11 16:02:30 -0500 (Tue, 11 Nov 2025) EllapsedTime: 68.8 seconds RetCode: 0 Status: OK